BEGIN:VCALENDAR
VERSION:2.0
PRODID:-//Covenant Church - ECPv6.15.20//NONSGML v1.0//EN
CALSCALE:GREGORIAN
METHOD:PUBLISH
X-ORIGINAL-URL:https://thecovberkeley.org
X-WR-CALDESC:Events for Covenant Church
REFRESH-INTERVAL;VALUE=DURATION:PT1H
X-Robots-Tag:noindex
X-PUBLISHED-TTL:PT1H
BEGIN:VTIMEZONE
TZID:America/Los_Angeles
BEGIN:DAYLIGHT
TZOFFSETFROM:-0800
TZOFFSETTO:-0700
TZNAME:PDT
DTSTART:20220313T100000
END:DAYLIGHT
BEGIN:STANDARD
TZOFFSETFROM:-0700
TZOFFSETTO:-0800
TZNAME:PST
DTSTART:20221106T090000
END:STANDARD
BEGIN:DAYLIGHT
TZOFFSETFROM:-0800
TZOFFSETTO:-0700
TZNAME:PDT
DTSTART:20230312T100000
END:DAYLIGHT
BEGIN:STANDARD
TZOFFSETFROM:-0700
TZOFFSETTO:-0800
TZNAME:PST
DTSTART:20231105T090000
END:STANDARD
BEGIN:DAYLIGHT
TZOFFSETFROM:-0800
TZOFFSETTO:-0700
TZNAME:PDT
DTSTART:20240310T100000
END:DAYLIGHT
BEGIN:STANDARD
TZOFFSETFROM:-0700
TZOFFSETTO:-0800
TZNAME:PST
DTSTART:20241103T090000
END:STANDARD
END:VTIMEZONE
BEGIN:VEVENT
DTSTART;TZID=America/Los_Angeles:20230416T080000
DTEND;TZID=America/Los_Angeles:20230416T093000
DTSTAMP:20260422T021417
CREATED:20230402T070712Z
LAST-MODIFIED:20230405T072955Z
UID:10004466-1681632000-1681637400@thecovberkeley.org
SUMMARY:Sunday Worship Service
DESCRIPTION:Need to hear a word from the Lord? Looking for an authentic worship experience? Seeking more opportunities to fellowship with others who want a deeper relationship with Jesus? This is where you’ll find it. Join us for church in-person at 8am or 12pm\, or online at 12:30pm. Each service is guaranteed to leave you saying\, “I got just what I wanted.”
URL:https://thecovberkeley.org/event/sunday-worship-service-31/2023-04-16/1/
LOCATION:Covenant Church\, 2618 San Pablo Ave.\, Berkeley\, CA\, 94702\, United States
END:VEVENT
BEGIN:VEVENT
DTSTART;TZID=America/Los_Angeles:20230416T120000
DTEND;TZID=America/Los_Angeles:20230416T133000
DTSTAMP:20260422T021417
CREATED:20230402T070712Z
LAST-MODIFIED:20230405T072955Z
UID:10004467-1681646400-1681651800@thecovberkeley.org
SUMMARY:Sunday Worship Service
DESCRIPTION:Need to hear a word from the Lord? Looking for an authentic worship experience? Seeking more opportunities to fellowship with others who want a deeper relationship with Jesus? This is where you’ll find it. Join us for church in-person at 8am or 12pm\, or online at 12:30pm. Each service is guaranteed to leave you saying\, “I got just what I wanted.”
URL:https://thecovberkeley.org/event/sunday-worship-service-31/2023-04-16/2/
LOCATION:Covenant Church\, 2618 San Pablo Ave.\, Berkeley\, CA\, 94702\, United States
END:VEVENT
BEGIN:VEVENT
DTSTART;TZID=America/Los_Angeles:20230416T120000
DTEND;TZID=America/Los_Angeles:20230416T133000
DTSTAMP:20260422T021417
CREATED:20230406T173958Z
LAST-MODIFIED:20230406T173958Z
UID:10004495-1681646400-1681651800@thecovberkeley.org
SUMMARY:Powerhouse
DESCRIPTION:Help introduce your kids to the Kingdom of God while you get what you want from God. Our Powerhouse ministry offers kids and parents a break by providing our youngest members with unique opportunities to worship\, learn about Jesus and participate in Bible-based activities in an age-appropriate setting. All kids ages 3-11 are welcome.
URL:https://thecovberkeley.org/event/powerhouse-3/2023-04-16/
LOCATION:Covenant Church\, 2618 San Pablo Ave.\, Berkeley\, CA\, 94702\, United States
ATTACH;FMTTYPE=image/jpeg:https://thecovberkeley.org/wp-content/uploads/2023/04/7F109863-.jpg
END:VEVENT
BEGIN:VEVENT
DTSTART;TZID=America/Los_Angeles:20230417T053000
DTEND;TZID=America/Los_Angeles:20230417T063000
DTSTAMP:20260422T021417
CREATED:20221231T200550Z
LAST-MODIFIED:20221231T200550Z
UID:10003899-1681709400-1681713000@thecovberkeley.org
SUMMARY:Covenant Church Intercessory Prayer Call
DESCRIPTION:Get refreshed\, renewed and revived from whatever you’re going through in life at “The Well\,” our daily prayer call with the Intercessory Prayer Ministry. Held on weekdays at 5:30am and 9pm\, and Saturdays at 6am.
URL:https://thecovberkeley.org/event/covenant-church-intercessory-prayer-call/2023-04-17/
LOCATION:CA
ATTACH;FMTTYPE=image/png:https://thecovberkeley.org/wp-content/uploads/2020/07/prayer-call-the-well-event.png
END:VEVENT
BEGIN:VEVENT
DTSTART;TZID=America/Los_Angeles:20230417T210000
DTEND;TZID=America/Los_Angeles:20230417T213000
DTSTAMP:20260422T021417
CREATED:20221231T200736Z
LAST-MODIFIED:20221231T200736Z
UID:10004129-1681765200-1681767000@thecovberkeley.org
SUMMARY:Covenant Church Intercessory Prayer Call
DESCRIPTION:Get refreshed\, renewed and revived from whatever you’re going through in life at “The Well\,” our daily prayer call with the Intercessory Prayer Ministry. Held on weekdays at 5:30am and 9pm\, and Saturdays at 6am.
URL:https://thecovberkeley.org/event/covenant-church-intercessory-prayer-call-2/2023-04-17/
LOCATION:CA
ATTACH;FMTTYPE=image/png:https://thecovberkeley.org/wp-content/uploads/2020/07/prayer-call-the-well-event.png
END:VEVENT
BEGIN:VEVENT
DTSTART;TZID=America/Los_Angeles:20230418T053000
DTEND;TZID=America/Los_Angeles:20230418T063000
DTSTAMP:20260422T021417
CREATED:20221231T200550Z
LAST-MODIFIED:20221231T200550Z
UID:10003900-1681795800-1681799400@thecovberkeley.org
SUMMARY:Covenant Church Intercessory Prayer Call
DESCRIPTION:Get refreshed\, renewed and revived from whatever you’re going through in life at “The Well\,” our daily prayer call with the Intercessory Prayer Ministry. Held on weekdays at 5:30am and 9pm\, and Saturdays at 6am.
URL:https://thecovberkeley.org/event/covenant-church-intercessory-prayer-call/2023-04-18/
LOCATION:CA
ATTACH;FMTTYPE=image/png:https://thecovberkeley.org/wp-content/uploads/2020/07/prayer-call-the-well-event.png
END:VEVENT
BEGIN:VEVENT
DTSTART;TZID=America/Los_Angeles:20230418T190000
DTEND;TZID=America/Los_Angeles:20230418T203000
DTSTAMP:20260422T021417
CREATED:20230111T022739Z
LAST-MODIFIED:20230111T022739Z
UID:10004306-1681844400-1681849800@thecovberkeley.org
SUMMARY:The Quest Bible Study
DESCRIPTION:Join Bishop Woods on the Quest on Facebook Live as he expands on his sermons and teaches us how to go deeper in the Word. Tune in and invite a friend!
URL:https://thecovberkeley.org/event/the-quest-bible-study/2023-04-18/
LOCATION:CA
ATTACH;FMTTYPE=image/jpeg:https://thecovberkeley.org/wp-content/uploads/2020/07/The-Quest-Bible-Study-event.jpg
END:VEVENT
BEGIN:VEVENT
DTSTART;TZID=America/Los_Angeles:20230418T210000
DTEND;TZID=America/Los_Angeles:20230418T213000
DTSTAMP:20260422T021417
CREATED:20221231T200736Z
LAST-MODIFIED:20221231T200736Z
UID:10004130-1681851600-1681853400@thecovberkeley.org
SUMMARY:Covenant Church Intercessory Prayer Call
DESCRIPTION:Get refreshed\, renewed and revived from whatever you’re going through in life at “The Well\,” our daily prayer call with the Intercessory Prayer Ministry. Held on weekdays at 5:30am and 9pm\, and Saturdays at 6am.
URL:https://thecovberkeley.org/event/covenant-church-intercessory-prayer-call-2/2023-04-18/
LOCATION:CA
ATTACH;FMTTYPE=image/png:https://thecovberkeley.org/wp-content/uploads/2020/07/prayer-call-the-well-event.png
END:VEVENT
BEGIN:VEVENT
DTSTART;TZID=America/Los_Angeles:20230419T053000
DTEND;TZID=America/Los_Angeles:20230419T063000
DTSTAMP:20260422T021417
CREATED:20221231T200550Z
LAST-MODIFIED:20221231T200550Z
UID:10003901-1681882200-1681885800@thecovberkeley.org
SUMMARY:Covenant Church Intercessory Prayer Call
DESCRIPTION:Get refreshed\, renewed and revived from whatever you’re going through in life at “The Well\,” our daily prayer call with the Intercessory Prayer Ministry. Held on weekdays at 5:30am and 9pm\, and Saturdays at 6am.
URL:https://thecovberkeley.org/event/covenant-church-intercessory-prayer-call/2023-04-19/
LOCATION:CA
ATTACH;FMTTYPE=image/png:https://thecovberkeley.org/wp-content/uploads/2020/07/prayer-call-the-well-event.png
END:VEVENT
BEGIN:VEVENT
DTSTART;TZID=America/Los_Angeles:20230419T190000
DTEND;TZID=America/Los_Angeles:20230419T203000
DTSTAMP:20260422T021417
CREATED:20230119T011306Z
LAST-MODIFIED:20230119T011306Z
UID:10004356-1681930800-1681936200@thecovberkeley.org
SUMMARY:Midweek Worship Experience
DESCRIPTION:Make it through your week stronger and better than you started with our Midweek Worship Experience. This service is in-person at the church\, and COVID-19 protocols will be in place so everyone can have a safe and enjoyable time in the Lord.
URL:https://thecovberkeley.org/event/midweek-worship-experience-5/2023-04-19/
LOCATION:Covenant Church\, 2618 San Pablo Ave.\, Berkeley\, CA\, 94702\, United States
ATTACH;FMTTYPE=image/png:https://thecovberkeley.org/wp-content/uploads/2020/07/worship-singer-crowd-silhouette.png
END:VEVENT
BEGIN:VEVENT
DTSTART;TZID=America/Los_Angeles:20230419T210000
DTEND;TZID=America/Los_Angeles:20230419T213000
DTSTAMP:20260422T021417
CREATED:20221231T200736Z
LAST-MODIFIED:20221231T200736Z
UID:10004131-1681938000-1681939800@thecovberkeley.org
SUMMARY:Covenant Church Intercessory Prayer Call
DESCRIPTION:Get refreshed\, renewed and revived from whatever you’re going through in life at “The Well\,” our daily prayer call with the Intercessory Prayer Ministry. Held on weekdays at 5:30am and 9pm\, and Saturdays at 6am.
URL:https://thecovberkeley.org/event/covenant-church-intercessory-prayer-call-2/2023-04-19/
LOCATION:CA
ATTACH;FMTTYPE=image/png:https://thecovberkeley.org/wp-content/uploads/2020/07/prayer-call-the-well-event.png
END:VEVENT
BEGIN:VEVENT
DTSTART;TZID=America/Los_Angeles:20230420T053000
DTEND;TZID=America/Los_Angeles:20230420T063000
DTSTAMP:20260422T021417
CREATED:20221231T200550Z
LAST-MODIFIED:20221231T200550Z
UID:10003902-1681968600-1681972200@thecovberkeley.org
SUMMARY:Covenant Church Intercessory Prayer Call
DESCRIPTION:Get refreshed\, renewed and revived from whatever you’re going through in life at “The Well\,” our daily prayer call with the Intercessory Prayer Ministry. Held on weekdays at 5:30am and 9pm\, and Saturdays at 6am.
URL:https://thecovberkeley.org/event/covenant-church-intercessory-prayer-call/2023-04-20/
LOCATION:CA
ATTACH;FMTTYPE=image/png:https://thecovberkeley.org/wp-content/uploads/2020/07/prayer-call-the-well-event.png
END:VEVENT
BEGIN:VEVENT
DTSTART;TZID=America/Los_Angeles:20230421T053000
DTEND;TZID=America/Los_Angeles:20230421T063000
DTSTAMP:20260422T021417
CREATED:20221231T200550Z
LAST-MODIFIED:20221231T200550Z
UID:10003903-1682055000-1682058600@thecovberkeley.org
SUMMARY:Covenant Church Intercessory Prayer Call
DESCRIPTION:Get refreshed\, renewed and revived from whatever you’re going through in life at “The Well\,” our daily prayer call with the Intercessory Prayer Ministry. Held on weekdays at 5:30am and 9pm\, and Saturdays at 6am.
URL:https://thecovberkeley.org/event/covenant-church-intercessory-prayer-call/2023-04-21/
LOCATION:CA
ATTACH;FMTTYPE=image/png:https://thecovberkeley.org/wp-content/uploads/2020/07/prayer-call-the-well-event.png
END:VEVENT
BEGIN:VEVENT
DTSTART;TZID=America/Los_Angeles:20230422T060000
DTEND;TZID=America/Los_Angeles:20230422T070000
DTSTAMP:20260422T021417
CREATED:20221231T200908Z
LAST-MODIFIED:20221231T200908Z
UID:10004255-1682143200-1682146800@thecovberkeley.org
SUMMARY:Covenant Church Intercessory Prayer Call
DESCRIPTION:Get refreshed\, renewed and revived from whatever you’re going through in life at “The Well\,” our daily prayer call with the Intercessory Prayer Ministry. Held on weekdays at 5:30am and 9pm\, and Saturdays at 6am.
URL:https://thecovberkeley.org/event/covenant-church-intercessory-prayer-call-3/2023-04-22/
LOCATION:CA
ATTACH;FMTTYPE=image/png:https://thecovberkeley.org/wp-content/uploads/2020/07/prayer-call-the-well-event.png
END:VEVENT
BEGIN:VEVENT
DTSTART;TZID=America/Los_Angeles:20230422T083000
DTEND;TZID=America/Los_Angeles:20230422T093000
DTSTAMP:20260422T021417
CREATED:20230406T174926Z
LAST-MODIFIED:20230406T174926Z
UID:10004504-1682152200-1682155800@thecovberkeley.org
SUMMARY:Men's Fellowship Breakfast
DESCRIPTION:Masterbuilders: Join us for good fellowship and good food. \nThe monthly breakfast gathering allows us to bond and grow spiritually with each other so we can become the pillars our church needs.
URL:https://thecovberkeley.org/event/mens-fellowship-breakfast/2023-04-22/
LOCATION:Lois the Pie Queen\, 851 60th St.\, Oakland\, CA\, 94608\, United States
ATTACH;FMTTYPE=image/jpeg:https://thecovberkeley.org/wp-content/uploads/2023/04/Mens-Fellowship-Breakfast-event.jpg
END:VEVENT
BEGIN:VEVENT
DTSTART;TZID=America/Los_Angeles:20230423T080000
DTEND;TZID=America/Los_Angeles:20230423T093000
DTSTAMP:20260422T021417
CREATED:20230402T070712Z
LAST-MODIFIED:20230405T072955Z
UID:10004468-1682236800-1682242200@thecovberkeley.org
SUMMARY:Sunday Worship Service
DESCRIPTION:Need to hear a word from the Lord? Looking for an authentic worship experience? Seeking more opportunities to fellowship with others who want a deeper relationship with Jesus? This is where you’ll find it. Join us for church in-person at 8am or 12pm\, or online at 12:30pm. Each service is guaranteed to leave you saying\, “I got just what I wanted.”
URL:https://thecovberkeley.org/event/sunday-worship-service-31/2023-04-23/1/
LOCATION:Covenant Church\, 2618 San Pablo Ave.\, Berkeley\, CA\, 94702\, United States
END:VEVENT
BEGIN:VEVENT
DTSTART;TZID=America/Los_Angeles:20230423T120000
DTEND;TZID=America/Los_Angeles:20230423T133000
DTSTAMP:20260422T021417
CREATED:20230402T070712Z
LAST-MODIFIED:20230405T072955Z
UID:10004469-1682251200-1682256600@thecovberkeley.org
SUMMARY:Sunday Worship Service
DESCRIPTION:Need to hear a word from the Lord? Looking for an authentic worship experience? Seeking more opportunities to fellowship with others who want a deeper relationship with Jesus? This is where you’ll find it. Join us for church in-person at 8am or 12pm\, or online at 12:30pm. Each service is guaranteed to leave you saying\, “I got just what I wanted.”
URL:https://thecovberkeley.org/event/sunday-worship-service-31/2023-04-23/2/
LOCATION:Covenant Church\, 2618 San Pablo Ave.\, Berkeley\, CA\, 94702\, United States
END:VEVENT
BEGIN:VEVENT
DTSTART;TZID=America/Los_Angeles:20230424T053000
DTEND;TZID=America/Los_Angeles:20230424T063000
DTSTAMP:20260422T021417
CREATED:20221231T200550Z
LAST-MODIFIED:20221231T200550Z
UID:10003904-1682314200-1682317800@thecovberkeley.org
SUMMARY:Covenant Church Intercessory Prayer Call
DESCRIPTION:Get refreshed\, renewed and revived from whatever you’re going through in life at “The Well\,” our daily prayer call with the Intercessory Prayer Ministry. Held on weekdays at 5:30am and 9pm\, and Saturdays at 6am.
URL:https://thecovberkeley.org/event/covenant-church-intercessory-prayer-call/2023-04-24/
LOCATION:CA
ATTACH;FMTTYPE=image/png:https://thecovberkeley.org/wp-content/uploads/2020/07/prayer-call-the-well-event.png
END:VEVENT
BEGIN:VEVENT
DTSTART;TZID=America/Los_Angeles:20230424T210000
DTEND;TZID=America/Los_Angeles:20230424T213000
DTSTAMP:20260422T021417
CREATED:20221231T200736Z
LAST-MODIFIED:20221231T200736Z
UID:10004132-1682370000-1682371800@thecovberkeley.org
SUMMARY:Covenant Church Intercessory Prayer Call
DESCRIPTION:Get refreshed\, renewed and revived from whatever you’re going through in life at “The Well\,” our daily prayer call with the Intercessory Prayer Ministry. Held on weekdays at 5:30am and 9pm\, and Saturdays at 6am.
URL:https://thecovberkeley.org/event/covenant-church-intercessory-prayer-call-2/2023-04-24/
LOCATION:CA
ATTACH;FMTTYPE=image/png:https://thecovberkeley.org/wp-content/uploads/2020/07/prayer-call-the-well-event.png
END:VEVENT
BEGIN:VEVENT
DTSTART;TZID=America/Los_Angeles:20230425T053000
DTEND;TZID=America/Los_Angeles:20230425T063000
DTSTAMP:20260422T021417
CREATED:20221231T200550Z
LAST-MODIFIED:20221231T200550Z
UID:10003905-1682400600-1682404200@thecovberkeley.org
SUMMARY:Covenant Church Intercessory Prayer Call
DESCRIPTION:Get refreshed\, renewed and revived from whatever you’re going through in life at “The Well\,” our daily prayer call with the Intercessory Prayer Ministry. Held on weekdays at 5:30am and 9pm\, and Saturdays at 6am.
URL:https://thecovberkeley.org/event/covenant-church-intercessory-prayer-call/2023-04-25/
LOCATION:CA
ATTACH;FMTTYPE=image/png:https://thecovberkeley.org/wp-content/uploads/2020/07/prayer-call-the-well-event.png
END:VEVENT
BEGIN:VEVENT
DTSTART;TZID=America/Los_Angeles:20230425T190000
DTEND;TZID=America/Los_Angeles:20230425T203000
DTSTAMP:20260422T021417
CREATED:20230111T022739Z
LAST-MODIFIED:20230111T022739Z
UID:10004307-1682449200-1682454600@thecovberkeley.org
SUMMARY:The Quest Bible Study
DESCRIPTION:Join Bishop Woods on the Quest on Facebook Live as he expands on his sermons and teaches us how to go deeper in the Word. Tune in and invite a friend!
URL:https://thecovberkeley.org/event/the-quest-bible-study/2023-04-25/
LOCATION:CA
ATTACH;FMTTYPE=image/jpeg:https://thecovberkeley.org/wp-content/uploads/2020/07/The-Quest-Bible-Study-event.jpg
END:VEVENT
BEGIN:VEVENT
DTSTART;TZID=America/Los_Angeles:20230425T210000
DTEND;TZID=America/Los_Angeles:20230425T213000
DTSTAMP:20260422T021417
CREATED:20221231T200736Z
LAST-MODIFIED:20221231T200736Z
UID:10004133-1682456400-1682458200@thecovberkeley.org
SUMMARY:Covenant Church Intercessory Prayer Call
DESCRIPTION:Get refreshed\, renewed and revived from whatever you’re going through in life at “The Well\,” our daily prayer call with the Intercessory Prayer Ministry. Held on weekdays at 5:30am and 9pm\, and Saturdays at 6am.
URL:https://thecovberkeley.org/event/covenant-church-intercessory-prayer-call-2/2023-04-25/
LOCATION:CA
ATTACH;FMTTYPE=image/png:https://thecovberkeley.org/wp-content/uploads/2020/07/prayer-call-the-well-event.png
END:VEVENT
BEGIN:VEVENT
DTSTART;TZID=America/Los_Angeles:20230426T053000
DTEND;TZID=America/Los_Angeles:20230426T063000
DTSTAMP:20260422T021417
CREATED:20221231T200550Z
LAST-MODIFIED:20221231T200550Z
UID:10003906-1682487000-1682490600@thecovberkeley.org
SUMMARY:Covenant Church Intercessory Prayer Call
DESCRIPTION:Get refreshed\, renewed and revived from whatever you’re going through in life at “The Well\,” our daily prayer call with the Intercessory Prayer Ministry. Held on weekdays at 5:30am and 9pm\, and Saturdays at 6am.
URL:https://thecovberkeley.org/event/covenant-church-intercessory-prayer-call/2023-04-26/
LOCATION:CA
ATTACH;FMTTYPE=image/png:https://thecovberkeley.org/wp-content/uploads/2020/07/prayer-call-the-well-event.png
END:VEVENT
BEGIN:VEVENT
DTSTART;TZID=America/Los_Angeles:20230426T190000
DTEND;TZID=America/Los_Angeles:20230426T203000
DTSTAMP:20260422T021417
CREATED:20230119T011306Z
LAST-MODIFIED:20230119T011306Z
UID:10004357-1682535600-1682541000@thecovberkeley.org
SUMMARY:Midweek Worship Experience
DESCRIPTION:Make it through your week stronger and better than you started with our Midweek Worship Experience. This service is in-person at the church\, and COVID-19 protocols will be in place so everyone can have a safe and enjoyable time in the Lord.
URL:https://thecovberkeley.org/event/midweek-worship-experience-5/2023-04-26/
LOCATION:Covenant Church\, 2618 San Pablo Ave.\, Berkeley\, CA\, 94702\, United States
ATTACH;FMTTYPE=image/png:https://thecovberkeley.org/wp-content/uploads/2020/07/worship-singer-crowd-silhouette.png
END:VEVENT
BEGIN:VEVENT
DTSTART;TZID=America/Los_Angeles:20230426T210000
DTEND;TZID=America/Los_Angeles:20230426T213000
DTSTAMP:20260422T021417
CREATED:20221231T200736Z
LAST-MODIFIED:20221231T200736Z
UID:10004134-1682542800-1682544600@thecovberkeley.org
SUMMARY:Covenant Church Intercessory Prayer Call
DESCRIPTION:Get refreshed\, renewed and revived from whatever you’re going through in life at “The Well\,” our daily prayer call with the Intercessory Prayer Ministry. Held on weekdays at 5:30am and 9pm\, and Saturdays at 6am.
URL:https://thecovberkeley.org/event/covenant-church-intercessory-prayer-call-2/2023-04-26/
LOCATION:CA
ATTACH;FMTTYPE=image/png:https://thecovberkeley.org/wp-content/uploads/2020/07/prayer-call-the-well-event.png
END:VEVENT
BEGIN:VEVENT
DTSTART;TZID=America/Los_Angeles:20230427T053000
DTEND;TZID=America/Los_Angeles:20230427T063000
DTSTAMP:20260422T021417
CREATED:20221231T200550Z
LAST-MODIFIED:20221231T200550Z
UID:10003907-1682573400-1682577000@thecovberkeley.org
SUMMARY:Covenant Church Intercessory Prayer Call
DESCRIPTION:Get refreshed\, renewed and revived from whatever you’re going through in life at “The Well\,” our daily prayer call with the Intercessory Prayer Ministry. Held on weekdays at 5:30am and 9pm\, and Saturdays at 6am.
URL:https://thecovberkeley.org/event/covenant-church-intercessory-prayer-call/2023-04-27/
LOCATION:CA
ATTACH;FMTTYPE=image/png:https://thecovberkeley.org/wp-content/uploads/2020/07/prayer-call-the-well-event.png
END:VEVENT
BEGIN:VEVENT
DTSTART;TZID=America/Los_Angeles:20230428T053000
DTEND;TZID=America/Los_Angeles:20230428T063000
DTSTAMP:20260422T021417
CREATED:20221231T200550Z
LAST-MODIFIED:20221231T200550Z
UID:10003908-1682659800-1682663400@thecovberkeley.org
SUMMARY:Covenant Church Intercessory Prayer Call
DESCRIPTION:Get refreshed\, renewed and revived from whatever you’re going through in life at “The Well\,” our daily prayer call with the Intercessory Prayer Ministry. Held on weekdays at 5:30am and 9pm\, and Saturdays at 6am.
URL:https://thecovberkeley.org/event/covenant-church-intercessory-prayer-call/2023-04-28/
LOCATION:CA
ATTACH;FMTTYPE=image/png:https://thecovberkeley.org/wp-content/uploads/2020/07/prayer-call-the-well-event.png
END:VEVENT
BEGIN:VEVENT
DTSTART;TZID=America/Los_Angeles:20230429T060000
DTEND;TZID=America/Los_Angeles:20230429T070000
DTSTAMP:20260422T021417
CREATED:20221231T200908Z
LAST-MODIFIED:20221231T200908Z
UID:10004256-1682748000-1682751600@thecovberkeley.org
SUMMARY:Covenant Church Intercessory Prayer Call
DESCRIPTION:Get refreshed\, renewed and revived from whatever you’re going through in life at “The Well\,” our daily prayer call with the Intercessory Prayer Ministry. Held on weekdays at 5:30am and 9pm\, and Saturdays at 6am.
URL:https://thecovberkeley.org/event/covenant-church-intercessory-prayer-call-3/2023-04-29/
LOCATION:CA
ATTACH;FMTTYPE=image/png:https://thecovberkeley.org/wp-content/uploads/2020/07/prayer-call-the-well-event.png
END:VEVENT
BEGIN:VEVENT
DTSTART;TZID=America/Los_Angeles:20230430T080000
DTEND;TZID=America/Los_Angeles:20230430T093000
DTSTAMP:20260422T021417
CREATED:20230405T073605Z
LAST-MODIFIED:20230405T073605Z
UID:10004475-1682841600-1682847000@thecovberkeley.org
SUMMARY:Christmas In April
DESCRIPTION:Join us for a special Sunday worship service that we’re calling\, “Christmas In April.” \nAs part of the service\, we will be doing our Random Acts of Kindness. We’re asking everyone to come to the service and bring bags of new clothes and $5 gift cards to donate to local shelters. Our goal is to donate $1\,000 worth of gifts.
URL:https://thecovberkeley.org/event/christmas-in-april-2/2023-04-30/1/
LOCATION:Covenant Church\, 2618 San Pablo Ave.\, Berkeley\, CA\, 94702\, United States
ATTACH;FMTTYPE=image/png:https://thecovberkeley.org/wp-content/uploads/2023/04/Christmas-In-April-Service.png
END:VEVENT
BEGIN:VEVENT
DTSTART;TZID=America/Los_Angeles:20230430T120000
DTEND;TZID=America/Los_Angeles:20230430T133000
DTSTAMP:20260422T021417
CREATED:20230405T073605Z
LAST-MODIFIED:20230405T073605Z
UID:10004476-1682856000-1682861400@thecovberkeley.org
SUMMARY:Christmas In April
DESCRIPTION:Join us for a special Sunday worship service that we’re calling\, “Christmas In April.” \nAs part of the service\, we will be doing our Random Acts of Kindness. We’re asking everyone to come to the service and bring bags of new clothes and $5 gift cards to donate to local shelters. Our goal is to donate $1\,000 worth of gifts.
URL:https://thecovberkeley.org/event/christmas-in-april-2/2023-04-30/2/
LOCATION:Covenant Church\, 2618 San Pablo Ave.\, Berkeley\, CA\, 94702\, United States
ATTACH;FMTTYPE=image/png:https://thecovberkeley.org/wp-content/uploads/2023/04/Christmas-In-April-Service.png
END:VEVENT
END:VCALENDAR