BEGIN:VCALENDAR
VERSION:2.0
PRODID:-//Covenant Church - ECPv6.15.20//NONSGML v1.0//EN
CALSCALE:GREGORIAN
METHOD:PUBLISH
X-WR-CALNAME:Covenant Church
X-ORIGINAL-URL:https://thecovberkeley.org
X-WR-CALDESC:Events for Covenant Church
REFRESH-INTERVAL;VALUE=DURATION:PT1H
X-Robots-Tag:noindex
X-PUBLISHED-TTL:PT1H
BEGIN:VTIMEZONE
TZID:America/Los_Angeles
BEGIN:DAYLIGHT
TZOFFSETFROM:-0800
TZOFFSETTO:-0700
TZNAME:PDT
DTSTART:20250309T100000
END:DAYLIGHT
BEGIN:STANDARD
TZOFFSETFROM:-0700
TZOFFSETTO:-0800
TZNAME:PST
DTSTART:20251102T090000
END:STANDARD
BEGIN:DAYLIGHT
TZOFFSETFROM:-0800
TZOFFSETTO:-0700
TZNAME:PDT
DTSTART:20260308T100000
END:DAYLIGHT
BEGIN:STANDARD
TZOFFSETFROM:-0700
TZOFFSETTO:-0800
TZNAME:PST
DTSTART:20261101T090000
END:STANDARD
BEGIN:DAYLIGHT
TZOFFSETFROM:-0800
TZOFFSETTO:-0700
TZNAME:PDT
DTSTART:20270314T100000
END:DAYLIGHT
BEGIN:STANDARD
TZOFFSETFROM:-0700
TZOFFSETTO:-0800
TZNAME:PST
DTSTART:20271107T090000
END:STANDARD
END:VTIMEZONE
BEGIN:VEVENT
DTSTART;TZID=America/Los_Angeles:20260605T053000
DTEND;TZID=America/Los_Angeles:20260605T063000
DTSTAMP:20260422T022529
CREATED:20260113T052531Z
LAST-MODIFIED:20260113T052531Z
UID:10007546-1780637400-1780641000@thecovberkeley.org
SUMMARY:Covenant Church Intercessory Prayer Call
DESCRIPTION:Get refreshed\, renewed and revived from whatever you’re going through in life at “The Well\,” our daily prayer call with the Intercessory Prayer Ministry. Held on weekdays at 5:30am and 9pm\, Monday through Friday\, and Saturdays at 6am. \nJoin by calling in to (562) 766-7703.
URL:https://thecovberkeley.org/event/covenant-church-intercessory-prayer-call-13/2026-06-05/
ATTACH;FMTTYPE=image/jpeg:https://thecovberkeley.org/wp-content/uploads/2024/01/prayer-call-the-well-event2.jpg
END:VEVENT
BEGIN:VEVENT
DTSTART;TZID=America/Los_Angeles:20260605T210000
DTEND;TZID=America/Los_Angeles:20260605T220000
DTSTAMP:20260422T022529
CREATED:20260113T052752Z
LAST-MODIFIED:20260113T052752Z
UID:10007794-1780693200-1780696800@thecovberkeley.org
SUMMARY:Covenant Church Intercessory Prayer Call
DESCRIPTION:Get refreshed\, renewed and revived from whatever you’re going through in life at “The Well\,” our daily prayer call with the Intercessory Prayer Ministry. Held on weekdays at 5:30am and 9pm\, Monday through Friday\, and Saturdays at 6am. \nJoin by calling in to (562) 766-7703.
URL:https://thecovberkeley.org/event/covenant-church-intercessory-prayer-call-14/2026-06-05/
ATTACH;FMTTYPE=image/jpeg:https://thecovberkeley.org/wp-content/uploads/2024/01/prayer-call-the-well-event2.jpg
END:VEVENT
BEGIN:VEVENT
DTSTART;TZID=America/Los_Angeles:20260606T060000
DTEND;TZID=America/Los_Angeles:20260606T070000
DTSTAMP:20260422T022529
CREATED:20260113T052858Z
LAST-MODIFIED:20260113T052858Z
UID:10007959-1780725600-1780729200@thecovberkeley.org
SUMMARY:Covenant Church Intercessory Prayer Call
DESCRIPTION:Get refreshed\, renewed and revived from whatever you’re going through in life at “The Well\,” our daily prayer call with the Intercessory Prayer Ministry. Held on weekdays at 5:30am and 9pm\, Monday through Friday\, and Saturdays at 6am. \nJoin by calling in to (562) 766-7703.
URL:https://thecovberkeley.org/event/covenant-church-intercessory-prayer-call-15/2026-06-06/
ATTACH;FMTTYPE=image/jpeg:https://thecovberkeley.org/wp-content/uploads/2024/01/prayer-call-the-well-event2.jpg
END:VEVENT
BEGIN:VEVENT
DTSTART;TZID=America/Los_Angeles:20260607T120000
DTEND;TZID=America/Los_Angeles:20260607T133000
DTSTAMP:20260422T022529
CREATED:20260113T050312Z
LAST-MODIFIED:20260113T050312Z
UID:10007311-1780833600-1780839000@thecovberkeley.org
SUMMARY:Sunday Worship Service
DESCRIPTION:Need to hear a word from the Lord? Looking for an authentic worship experience? Seeking more opportunities to fellowship with others who want a deeper relationship with Jesus? This is where you’ll find it. Join us for church in-person at 12pm\, or online at 12:30pm. Each service is guaranteed to leave you saying\, “I got just what I wanted.”
URL:https://thecovberkeley.org/event/sunday-worship-service-37/2026-06-07/
LOCATION:Covenant Church\, 2618 San Pablo Ave.\, Berkeley\, CA\, 94702\, United States
ATTACH;FMTTYPE=image/jpeg:https://thecovberkeley.org/wp-content/uploads/2026/01/Covenant-Church-Events-2.jpg
END:VEVENT
BEGIN:VEVENT
DTSTART;TZID=America/Los_Angeles:20260608T053000
DTEND;TZID=America/Los_Angeles:20260608T063000
DTSTAMP:20260422T022529
CREATED:20260113T052531Z
LAST-MODIFIED:20260113T052531Z
UID:10007547-1780896600-1780900200@thecovberkeley.org
SUMMARY:Covenant Church Intercessory Prayer Call
DESCRIPTION:Get refreshed\, renewed and revived from whatever you’re going through in life at “The Well\,” our daily prayer call with the Intercessory Prayer Ministry. Held on weekdays at 5:30am and 9pm\, Monday through Friday\, and Saturdays at 6am. \nJoin by calling in to (562) 766-7703.
URL:https://thecovberkeley.org/event/covenant-church-intercessory-prayer-call-13/2026-06-08/
ATTACH;FMTTYPE=image/jpeg:https://thecovberkeley.org/wp-content/uploads/2024/01/prayer-call-the-well-event2.jpg
END:VEVENT
BEGIN:VEVENT
DTSTART;TZID=America/Los_Angeles:20260608T210000
DTEND;TZID=America/Los_Angeles:20260608T220000
DTSTAMP:20260422T022529
CREATED:20260113T052752Z
LAST-MODIFIED:20260113T052752Z
UID:10007795-1780952400-1780956000@thecovberkeley.org
SUMMARY:Covenant Church Intercessory Prayer Call
DESCRIPTION:Get refreshed\, renewed and revived from whatever you’re going through in life at “The Well\,” our daily prayer call with the Intercessory Prayer Ministry. Held on weekdays at 5:30am and 9pm\, Monday through Friday\, and Saturdays at 6am. \nJoin by calling in to (562) 766-7703.
URL:https://thecovberkeley.org/event/covenant-church-intercessory-prayer-call-14/2026-06-08/
ATTACH;FMTTYPE=image/jpeg:https://thecovberkeley.org/wp-content/uploads/2024/01/prayer-call-the-well-event2.jpg
END:VEVENT
BEGIN:VEVENT
DTSTART;TZID=America/Los_Angeles:20260609T053000
DTEND;TZID=America/Los_Angeles:20260609T063000
DTSTAMP:20260422T022529
CREATED:20260113T052531Z
LAST-MODIFIED:20260113T052531Z
UID:10007548-1780983000-1780986600@thecovberkeley.org
SUMMARY:Covenant Church Intercessory Prayer Call
DESCRIPTION:Get refreshed\, renewed and revived from whatever you’re going through in life at “The Well\,” our daily prayer call with the Intercessory Prayer Ministry. Held on weekdays at 5:30am and 9pm\, Monday through Friday\, and Saturdays at 6am. \nJoin by calling in to (562) 766-7703.
URL:https://thecovberkeley.org/event/covenant-church-intercessory-prayer-call-13/2026-06-09/
ATTACH;FMTTYPE=image/jpeg:https://thecovberkeley.org/wp-content/uploads/2024/01/prayer-call-the-well-event2.jpg
END:VEVENT
BEGIN:VEVENT
DTSTART;TZID=America/Los_Angeles:20260609T190000
DTEND;TZID=America/Los_Angeles:20260609T203000
DTSTAMP:20260422T022529
CREATED:20260113T050655Z
LAST-MODIFIED:20260113T050655Z
UID:10007362-1781031600-1781037000@thecovberkeley.org
SUMMARY:The Quest Bible Study
DESCRIPTION:Join Bishop Woods on the Quest on Facebook Live as he expands on his sermons and teaches us how to go deeper in the Word. Tune in and invite a friend!
URL:https://thecovberkeley.org/event/the-quest-bible-study-4/2026-06-09/
ATTACH;FMTTYPE=image/jpeg:https://thecovberkeley.org/wp-content/uploads/2020/07/The-Quest-Bible-Study-event.jpg
END:VEVENT
BEGIN:VEVENT
DTSTART;TZID=America/Los_Angeles:20260609T190000
DTEND;TZID=America/Los_Angeles:20260609T203000
DTSTAMP:20260422T022529
CREATED:20260225T033439Z
LAST-MODIFIED:20260225T033439Z
UID:10008024-1781031600-1781037000@thecovberkeley.org
SUMMARY:Digital Underground: Youth Bible Study
DESCRIPTION:Royals: Join us for “Digital Underground\,” our biweekly youth Bible study! Held via Zoom\, every other week\, this gathering is specifically designed for young people aged 12-17 who are eager to explore the depths of their faith in the digital age. \nThis is an exciting opportunity to engage in thought-provoking discussions\, interactive activities and inspiring teachings led by our youth pastor\, all from the comfort of your own home. Together\, we’ll explore how biblical principles can be applied to everyday situations\, online interactions\, social media challenges and more.
URL:https://thecovberkeley.org/event/digital-underground-youth-bible-study-6/2026-06-09/
ATTACH;FMTTYPE=image/jpeg:https://thecovberkeley.org/wp-content/uploads/2020/07/Digital-Underground-event.jpg
END:VEVENT
BEGIN:VEVENT
DTSTART;TZID=America/Los_Angeles:20260609T210000
DTEND;TZID=America/Los_Angeles:20260609T220000
DTSTAMP:20260422T022529
CREATED:20260113T052752Z
LAST-MODIFIED:20260113T052752Z
UID:10007796-1781038800-1781042400@thecovberkeley.org
SUMMARY:Covenant Church Intercessory Prayer Call
DESCRIPTION:Get refreshed\, renewed and revived from whatever you’re going through in life at “The Well\,” our daily prayer call with the Intercessory Prayer Ministry. Held on weekdays at 5:30am and 9pm\, Monday through Friday\, and Saturdays at 6am. \nJoin by calling in to (562) 766-7703.
URL:https://thecovberkeley.org/event/covenant-church-intercessory-prayer-call-14/2026-06-09/
ATTACH;FMTTYPE=image/jpeg:https://thecovberkeley.org/wp-content/uploads/2024/01/prayer-call-the-well-event2.jpg
END:VEVENT
BEGIN:VEVENT
DTSTART;TZID=America/Los_Angeles:20260610T053000
DTEND;TZID=America/Los_Angeles:20260610T063000
DTSTAMP:20260422T022529
CREATED:20260113T052531Z
LAST-MODIFIED:20260113T052531Z
UID:10007549-1781069400-1781073000@thecovberkeley.org
SUMMARY:Covenant Church Intercessory Prayer Call
DESCRIPTION:Get refreshed\, renewed and revived from whatever you’re going through in life at “The Well\,” our daily prayer call with the Intercessory Prayer Ministry. Held on weekdays at 5:30am and 9pm\, Monday through Friday\, and Saturdays at 6am. \nJoin by calling in to (562) 766-7703.
URL:https://thecovberkeley.org/event/covenant-church-intercessory-prayer-call-13/2026-06-10/
ATTACH;FMTTYPE=image/jpeg:https://thecovberkeley.org/wp-content/uploads/2024/01/prayer-call-the-well-event2.jpg
END:VEVENT
BEGIN:VEVENT
DTSTART;TZID=America/Los_Angeles:20260610T190000
DTEND;TZID=America/Los_Angeles:20260610T203000
DTSTAMP:20260422T022529
CREATED:20260113T051331Z
LAST-MODIFIED:20260113T051331Z
UID:10007413-1781118000-1781123400@thecovberkeley.org
SUMMARY:Midweek Worship Experience
DESCRIPTION:Make it through your week stronger and better than you started with our Midweek Worship Experience. This service is in-person at the church.
URL:https://thecovberkeley.org/event/midweek-worship-experience-8/2026-06-10/
LOCATION:Covenant Church\, 2618 San Pablo Ave.\, Berkeley\, CA\, 94702\, United States
ATTACH;FMTTYPE=image/png:https://thecovberkeley.org/wp-content/uploads/2020/07/worship-singer-crowd-silhouette.png
END:VEVENT
BEGIN:VEVENT
DTSTART;TZID=America/Los_Angeles:20260610T210000
DTEND;TZID=America/Los_Angeles:20260610T220000
DTSTAMP:20260422T022529
CREATED:20260113T052752Z
LAST-MODIFIED:20260113T052752Z
UID:10007797-1781125200-1781128800@thecovberkeley.org
SUMMARY:Covenant Church Intercessory Prayer Call
DESCRIPTION:Get refreshed\, renewed and revived from whatever you’re going through in life at “The Well\,” our daily prayer call with the Intercessory Prayer Ministry. Held on weekdays at 5:30am and 9pm\, Monday through Friday\, and Saturdays at 6am. \nJoin by calling in to (562) 766-7703.
URL:https://thecovberkeley.org/event/covenant-church-intercessory-prayer-call-14/2026-06-10/
ATTACH;FMTTYPE=image/jpeg:https://thecovberkeley.org/wp-content/uploads/2024/01/prayer-call-the-well-event2.jpg
END:VEVENT
BEGIN:VEVENT
DTSTART;TZID=America/Los_Angeles:20260611T053000
DTEND;TZID=America/Los_Angeles:20260611T063000
DTSTAMP:20260422T022529
CREATED:20260113T052531Z
LAST-MODIFIED:20260113T052531Z
UID:10007550-1781155800-1781159400@thecovberkeley.org
SUMMARY:Covenant Church Intercessory Prayer Call
DESCRIPTION:Get refreshed\, renewed and revived from whatever you’re going through in life at “The Well\,” our daily prayer call with the Intercessory Prayer Ministry. Held on weekdays at 5:30am and 9pm\, Monday through Friday\, and Saturdays at 6am. \nJoin by calling in to (562) 766-7703.
URL:https://thecovberkeley.org/event/covenant-church-intercessory-prayer-call-13/2026-06-11/
ATTACH;FMTTYPE=image/jpeg:https://thecovberkeley.org/wp-content/uploads/2024/01/prayer-call-the-well-event2.jpg
END:VEVENT
BEGIN:VEVENT
DTSTART;TZID=America/Los_Angeles:20260611T210000
DTEND;TZID=America/Los_Angeles:20260611T220000
DTSTAMP:20260422T022529
CREATED:20260113T052752Z
LAST-MODIFIED:20260113T052752Z
UID:10007798-1781211600-1781215200@thecovberkeley.org
SUMMARY:Covenant Church Intercessory Prayer Call
DESCRIPTION:Get refreshed\, renewed and revived from whatever you’re going through in life at “The Well\,” our daily prayer call with the Intercessory Prayer Ministry. Held on weekdays at 5:30am and 9pm\, Monday through Friday\, and Saturdays at 6am. \nJoin by calling in to (562) 766-7703.
URL:https://thecovberkeley.org/event/covenant-church-intercessory-prayer-call-14/2026-06-11/
ATTACH;FMTTYPE=image/jpeg:https://thecovberkeley.org/wp-content/uploads/2024/01/prayer-call-the-well-event2.jpg
END:VEVENT
BEGIN:VEVENT
DTSTART;TZID=America/Los_Angeles:20260612T053000
DTEND;TZID=America/Los_Angeles:20260612T063000
DTSTAMP:20260422T022529
CREATED:20260113T052531Z
LAST-MODIFIED:20260113T052531Z
UID:10007551-1781242200-1781245800@thecovberkeley.org
SUMMARY:Covenant Church Intercessory Prayer Call
DESCRIPTION:Get refreshed\, renewed and revived from whatever you’re going through in life at “The Well\,” our daily prayer call with the Intercessory Prayer Ministry. Held on weekdays at 5:30am and 9pm\, Monday through Friday\, and Saturdays at 6am. \nJoin by calling in to (562) 766-7703.
URL:https://thecovberkeley.org/event/covenant-church-intercessory-prayer-call-13/2026-06-12/
ATTACH;FMTTYPE=image/jpeg:https://thecovberkeley.org/wp-content/uploads/2024/01/prayer-call-the-well-event2.jpg
END:VEVENT
BEGIN:VEVENT
DTSTART;TZID=America/Los_Angeles:20260612T210000
DTEND;TZID=America/Los_Angeles:20260612T220000
DTSTAMP:20260422T022529
CREATED:20260113T052752Z
LAST-MODIFIED:20260113T052752Z
UID:10007799-1781298000-1781301600@thecovberkeley.org
SUMMARY:Covenant Church Intercessory Prayer Call
DESCRIPTION:Get refreshed\, renewed and revived from whatever you’re going through in life at “The Well\,” our daily prayer call with the Intercessory Prayer Ministry. Held on weekdays at 5:30am and 9pm\, Monday through Friday\, and Saturdays at 6am. \nJoin by calling in to (562) 766-7703.
URL:https://thecovberkeley.org/event/covenant-church-intercessory-prayer-call-14/2026-06-12/
ATTACH;FMTTYPE=image/jpeg:https://thecovberkeley.org/wp-content/uploads/2024/01/prayer-call-the-well-event2.jpg
END:VEVENT
BEGIN:VEVENT
DTSTART;TZID=America/Los_Angeles:20260613T060000
DTEND;TZID=America/Los_Angeles:20260613T070000
DTSTAMP:20260422T022529
CREATED:20260113T052858Z
LAST-MODIFIED:20260113T052858Z
UID:10007960-1781330400-1781334000@thecovberkeley.org
SUMMARY:Covenant Church Intercessory Prayer Call
DESCRIPTION:Get refreshed\, renewed and revived from whatever you’re going through in life at “The Well\,” our daily prayer call with the Intercessory Prayer Ministry. Held on weekdays at 5:30am and 9pm\, Monday through Friday\, and Saturdays at 6am. \nJoin by calling in to (562) 766-7703.
URL:https://thecovberkeley.org/event/covenant-church-intercessory-prayer-call-15/2026-06-13/
ATTACH;FMTTYPE=image/jpeg:https://thecovberkeley.org/wp-content/uploads/2024/01/prayer-call-the-well-event2.jpg
END:VEVENT
BEGIN:VEVENT
DTSTART;TZID=America/Los_Angeles:20260614T120000
DTEND;TZID=America/Los_Angeles:20260614T133000
DTSTAMP:20260422T022529
CREATED:20260113T050312Z
LAST-MODIFIED:20260113T050312Z
UID:10007312-1781438400-1781443800@thecovberkeley.org
SUMMARY:Sunday Worship Service
DESCRIPTION:Need to hear a word from the Lord? Looking for an authentic worship experience? Seeking more opportunities to fellowship with others who want a deeper relationship with Jesus? This is where you’ll find it. Join us for church in-person at 12pm\, or online at 12:30pm. Each service is guaranteed to leave you saying\, “I got just what I wanted.”
URL:https://thecovberkeley.org/event/sunday-worship-service-37/2026-06-14/
LOCATION:Covenant Church\, 2618 San Pablo Ave.\, Berkeley\, CA\, 94702\, United States
ATTACH;FMTTYPE=image/jpeg:https://thecovberkeley.org/wp-content/uploads/2026/01/Covenant-Church-Events-2.jpg
END:VEVENT
BEGIN:VEVENT
DTSTART;TZID=America/Los_Angeles:20260615T053000
DTEND;TZID=America/Los_Angeles:20260615T063000
DTSTAMP:20260422T022529
CREATED:20260113T052531Z
LAST-MODIFIED:20260113T052531Z
UID:10007552-1781501400-1781505000@thecovberkeley.org
SUMMARY:Covenant Church Intercessory Prayer Call
DESCRIPTION:Get refreshed\, renewed and revived from whatever you’re going through in life at “The Well\,” our daily prayer call with the Intercessory Prayer Ministry. Held on weekdays at 5:30am and 9pm\, Monday through Friday\, and Saturdays at 6am. \nJoin by calling in to (562) 766-7703.
URL:https://thecovberkeley.org/event/covenant-church-intercessory-prayer-call-13/2026-06-15/
ATTACH;FMTTYPE=image/jpeg:https://thecovberkeley.org/wp-content/uploads/2024/01/prayer-call-the-well-event2.jpg
END:VEVENT
BEGIN:VEVENT
DTSTART;TZID=America/Los_Angeles:20260615T210000
DTEND;TZID=America/Los_Angeles:20260615T220000
DTSTAMP:20260422T022529
CREATED:20260113T052752Z
LAST-MODIFIED:20260113T052752Z
UID:10007800-1781557200-1781560800@thecovberkeley.org
SUMMARY:Covenant Church Intercessory Prayer Call
DESCRIPTION:Get refreshed\, renewed and revived from whatever you’re going through in life at “The Well\,” our daily prayer call with the Intercessory Prayer Ministry. Held on weekdays at 5:30am and 9pm\, Monday through Friday\, and Saturdays at 6am. \nJoin by calling in to (562) 766-7703.
URL:https://thecovberkeley.org/event/covenant-church-intercessory-prayer-call-14/2026-06-15/
ATTACH;FMTTYPE=image/jpeg:https://thecovberkeley.org/wp-content/uploads/2024/01/prayer-call-the-well-event2.jpg
END:VEVENT
BEGIN:VEVENT
DTSTART;TZID=America/Los_Angeles:20260616T053000
DTEND;TZID=America/Los_Angeles:20260616T063000
DTSTAMP:20260422T022529
CREATED:20260113T052531Z
LAST-MODIFIED:20260113T052531Z
UID:10007553-1781587800-1781591400@thecovberkeley.org
SUMMARY:Covenant Church Intercessory Prayer Call
DESCRIPTION:Get refreshed\, renewed and revived from whatever you’re going through in life at “The Well\,” our daily prayer call with the Intercessory Prayer Ministry. Held on weekdays at 5:30am and 9pm\, Monday through Friday\, and Saturdays at 6am. \nJoin by calling in to (562) 766-7703.
URL:https://thecovberkeley.org/event/covenant-church-intercessory-prayer-call-13/2026-06-16/
ATTACH;FMTTYPE=image/jpeg:https://thecovberkeley.org/wp-content/uploads/2024/01/prayer-call-the-well-event2.jpg
END:VEVENT
BEGIN:VEVENT
DTSTART;TZID=America/Los_Angeles:20260616T190000
DTEND;TZID=America/Los_Angeles:20260616T203000
DTSTAMP:20260422T022529
CREATED:20260113T050655Z
LAST-MODIFIED:20260113T050655Z
UID:10007363-1781636400-1781641800@thecovberkeley.org
SUMMARY:The Quest Bible Study
DESCRIPTION:Join Bishop Woods on the Quest on Facebook Live as he expands on his sermons and teaches us how to go deeper in the Word. Tune in and invite a friend!
URL:https://thecovberkeley.org/event/the-quest-bible-study-4/2026-06-16/
ATTACH;FMTTYPE=image/jpeg:https://thecovberkeley.org/wp-content/uploads/2020/07/The-Quest-Bible-Study-event.jpg
END:VEVENT
BEGIN:VEVENT
DTSTART;TZID=America/Los_Angeles:20260616T210000
DTEND;TZID=America/Los_Angeles:20260616T220000
DTSTAMP:20260422T022529
CREATED:20260113T052752Z
LAST-MODIFIED:20260113T052752Z
UID:10007801-1781643600-1781647200@thecovberkeley.org
SUMMARY:Covenant Church Intercessory Prayer Call
DESCRIPTION:Get refreshed\, renewed and revived from whatever you’re going through in life at “The Well\,” our daily prayer call with the Intercessory Prayer Ministry. Held on weekdays at 5:30am and 9pm\, Monday through Friday\, and Saturdays at 6am. \nJoin by calling in to (562) 766-7703.
URL:https://thecovberkeley.org/event/covenant-church-intercessory-prayer-call-14/2026-06-16/
ATTACH;FMTTYPE=image/jpeg:https://thecovberkeley.org/wp-content/uploads/2024/01/prayer-call-the-well-event2.jpg
END:VEVENT
BEGIN:VEVENT
DTSTART;TZID=America/Los_Angeles:20260617T053000
DTEND;TZID=America/Los_Angeles:20260617T063000
DTSTAMP:20260422T022529
CREATED:20260113T052531Z
LAST-MODIFIED:20260113T052531Z
UID:10007554-1781674200-1781677800@thecovberkeley.org
SUMMARY:Covenant Church Intercessory Prayer Call
DESCRIPTION:Get refreshed\, renewed and revived from whatever you’re going through in life at “The Well\,” our daily prayer call with the Intercessory Prayer Ministry. Held on weekdays at 5:30am and 9pm\, Monday through Friday\, and Saturdays at 6am. \nJoin by calling in to (562) 766-7703.
URL:https://thecovberkeley.org/event/covenant-church-intercessory-prayer-call-13/2026-06-17/
ATTACH;FMTTYPE=image/jpeg:https://thecovberkeley.org/wp-content/uploads/2024/01/prayer-call-the-well-event2.jpg
END:VEVENT
BEGIN:VEVENT
DTSTART;TZID=America/Los_Angeles:20260617T190000
DTEND;TZID=America/Los_Angeles:20260617T203000
DTSTAMP:20260422T022529
CREATED:20260113T051331Z
LAST-MODIFIED:20260113T051331Z
UID:10007414-1781722800-1781728200@thecovberkeley.org
SUMMARY:Midweek Worship Experience
DESCRIPTION:Make it through your week stronger and better than you started with our Midweek Worship Experience. This service is in-person at the church.
URL:https://thecovberkeley.org/event/midweek-worship-experience-8/2026-06-17/
LOCATION:Covenant Church\, 2618 San Pablo Ave.\, Berkeley\, CA\, 94702\, United States
ATTACH;FMTTYPE=image/png:https://thecovberkeley.org/wp-content/uploads/2020/07/worship-singer-crowd-silhouette.png
END:VEVENT
BEGIN:VEVENT
DTSTART;TZID=America/Los_Angeles:20260617T210000
DTEND;TZID=America/Los_Angeles:20260617T220000
DTSTAMP:20260422T022529
CREATED:20260113T052752Z
LAST-MODIFIED:20260113T052752Z
UID:10007802-1781730000-1781733600@thecovberkeley.org
SUMMARY:Covenant Church Intercessory Prayer Call
DESCRIPTION:Get refreshed\, renewed and revived from whatever you’re going through in life at “The Well\,” our daily prayer call with the Intercessory Prayer Ministry. Held on weekdays at 5:30am and 9pm\, Monday through Friday\, and Saturdays at 6am. \nJoin by calling in to (562) 766-7703.
URL:https://thecovberkeley.org/event/covenant-church-intercessory-prayer-call-14/2026-06-17/
ATTACH;FMTTYPE=image/jpeg:https://thecovberkeley.org/wp-content/uploads/2024/01/prayer-call-the-well-event2.jpg
END:VEVENT
BEGIN:VEVENT
DTSTART;TZID=America/Los_Angeles:20260618T053000
DTEND;TZID=America/Los_Angeles:20260618T063000
DTSTAMP:20260422T022529
CREATED:20260113T052531Z
LAST-MODIFIED:20260113T052531Z
UID:10007555-1781760600-1781764200@thecovberkeley.org
SUMMARY:Covenant Church Intercessory Prayer Call
DESCRIPTION:Get refreshed\, renewed and revived from whatever you’re going through in life at “The Well\,” our daily prayer call with the Intercessory Prayer Ministry. Held on weekdays at 5:30am and 9pm\, Monday through Friday\, and Saturdays at 6am. \nJoin by calling in to (562) 766-7703.
URL:https://thecovberkeley.org/event/covenant-church-intercessory-prayer-call-13/2026-06-18/
ATTACH;FMTTYPE=image/jpeg:https://thecovberkeley.org/wp-content/uploads/2024/01/prayer-call-the-well-event2.jpg
END:VEVENT
BEGIN:VEVENT
DTSTART;TZID=America/Los_Angeles:20260618T210000
DTEND;TZID=America/Los_Angeles:20260618T220000
DTSTAMP:20260422T022529
CREATED:20260113T052752Z
LAST-MODIFIED:20260113T052752Z
UID:10007803-1781816400-1781820000@thecovberkeley.org
SUMMARY:Covenant Church Intercessory Prayer Call
DESCRIPTION:Get refreshed\, renewed and revived from whatever you’re going through in life at “The Well\,” our daily prayer call with the Intercessory Prayer Ministry. Held on weekdays at 5:30am and 9pm\, Monday through Friday\, and Saturdays at 6am. \nJoin by calling in to (562) 766-7703.
URL:https://thecovberkeley.org/event/covenant-church-intercessory-prayer-call-14/2026-06-18/
ATTACH;FMTTYPE=image/jpeg:https://thecovberkeley.org/wp-content/uploads/2024/01/prayer-call-the-well-event2.jpg
END:VEVENT
BEGIN:VEVENT
DTSTART;TZID=America/Los_Angeles:20260619T053000
DTEND;TZID=America/Los_Angeles:20260619T063000
DTSTAMP:20260422T022529
CREATED:20260113T052531Z
LAST-MODIFIED:20260113T052531Z
UID:10007556-1781847000-1781850600@thecovberkeley.org
SUMMARY:Covenant Church Intercessory Prayer Call
DESCRIPTION:Get refreshed\, renewed and revived from whatever you’re going through in life at “The Well\,” our daily prayer call with the Intercessory Prayer Ministry. Held on weekdays at 5:30am and 9pm\, Monday through Friday\, and Saturdays at 6am. \nJoin by calling in to (562) 766-7703.
URL:https://thecovberkeley.org/event/covenant-church-intercessory-prayer-call-13/2026-06-19/
ATTACH;FMTTYPE=image/jpeg:https://thecovberkeley.org/wp-content/uploads/2024/01/prayer-call-the-well-event2.jpg
END:VEVENT
END:VCALENDAR